BEGIN:VCALENDAR
PRODID:-//Pixl8//Eventfolio//EN
VERSION:2.0
X-WR-TIMEZONE:Etc/GMT+1
CALSCALE:GREGORIAN
METHOD:PUBLISH
CLASS:PUBLIC
BEGIN:VTIMEZONE
TZID:Etc/GMT+1
LAST-MODIFIED:20260306T231828Z
TZURL:https://www.tzurl.org/zoneinfo-outlook/Etc/GMT+1
X-LIC-LOCATION:Etc/GMT+1
BEGIN:STANDARD
TZNAME:-01
TZOFFSETFROM:-0100
TZOFFSETTO:-0100
DTSTART:19700101T000000
END:STANDARD
END:VTIMEZONE
BEGIN:VEVENT
DTSTART;TZID=Etc/GMT+1:20250522T010000
DTEND;TZID=Etc/GMT+1:20250526T230000
DTSTAMP:20260420T104432Z
UID:{2486058E-74B7-4B15-B13767A80E045276}
LOCATION:Austria
SUMMARY:IAPCO Council Meeting, Vienna
DESCRIPTION:IAPCO Council travels to Vienna, Austria for their May Council Meeting.\n
 \n
 Event details: https://www.iapco.org/education-and-training/ems-event-calendar/iapco-council-meeting-vienna.html
PRIORITY:1
END:VEVENT
END:VCALENDAR